BEGIN:VCALENDAR
VERSION:2.0
PRODID:-//PC Works Employment - ECPv6.15.17.1//NONSGML v1.0//EN
CALSCALE:GREGORIAN
METHOD:PUBLISH
X-WR-CALNAME:PC Works Employment
X-ORIGINAL-URL:https://pcworksemployment.ca
X-WR-CALDESC:Events for PC Works Employment
REFRESH-INTERVAL;VALUE=DURATION:PT1H
X-Robots-Tag:noindex
X-PUBLISHED-TTL:PT1H
BEGIN:VTIMEZONE
TZID:America/Toronto
BEGIN:DAYLIGHT
TZOFFSETFROM:-0500
TZOFFSETTO:-0400
TZNAME:EDT
DTSTART:20180311T070000
END:DAYLIGHT
BEGIN:STANDARD
TZOFFSETFROM:-0400
TZOFFSETTO:-0500
TZNAME:EST
DTSTART:20181104T060000
END:STANDARD
BEGIN:DAYLIGHT
TZOFFSETFROM:-0500
TZOFFSETTO:-0400
TZNAME:EDT
DTSTART:20190310T070000
END:DAYLIGHT
BEGIN:STANDARD
TZOFFSETFROM:-0400
TZOFFSETTO:-0500
TZNAME:EST
DTSTART:20191103T060000
END:STANDARD
BEGIN:DAYLIGHT
TZOFFSETFROM:-0500
TZOFFSETTO:-0400
TZNAME:EDT
DTSTART:20200308T070000
END:DAYLIGHT
BEGIN:STANDARD
TZOFFSETFROM:-0400
TZOFFSETTO:-0500
TZNAME:EST
DTSTART:20201101T060000
END:STANDARD
END:VTIMEZONE
BEGIN:VEVENT
DTSTART;TZID=America/Toronto:20190701T080000
DTEND;TZID=America/Toronto:20190701T170000
DTSTAMP:20260422T072847
CREATED:20181217T180834Z
LAST-MODIFIED:20181217T180834Z
UID:854-1561968000-1562000400@pcworksemployment.ca
SUMMARY:Office Closed - Canada Day
DESCRIPTION:We are closed today!
URL:https://pcworksemployment.ca/event/office-closed-canada-day/
END:VEVENT
BEGIN:VEVENT
DTSTART;TZID=America/Toronto:20190709T090000
DTEND;TZID=America/Toronto:20190709T160000
DTSTAMP:20260422T072847
CREATED:20190703T201302Z
LAST-MODIFIED:20190703T201401Z
UID:1433-1562662800-1562688000@pcworksemployment.ca
SUMMARY:Job Fair - Revera Plymouth Cordage
DESCRIPTION:Revera Plymouth Cordage is hiring cooks\, dietary wait staff\, PSW’s and more! \n \n  \n  \n  \n  \n  \n  \n  \nWe’ll see you there!
URL:https://pcworksemployment.ca/event/revera-plymouth-cordage-job-fair/
END:VEVENT
BEGIN:VEVENT
DTSTART;TZID=America/Toronto:20190711T130000
DTEND;TZID=America/Toronto:20190711T160000
DTSTAMP:20260422T072847
CREATED:20190614T163322Z
LAST-MODIFIED:20190614T163443Z
UID:1396-1562850000-1562860800@pcworksemployment.ca
SUMMARY:Mid Life Career Change
DESCRIPTION:                                                                                                   Join us for this insightful workshop and learn how to successfully pursue a new career!  \n \n                                                                                                                                                 Call 905-834-3629 to register today!
URL:https://pcworksemployment.ca/event/mid-life-career-change/
END:VEVENT
BEGIN:VEVENT
DTSTART;VALUE=DATE:20190716
DTEND;VALUE=DATE:20190718
DTSTAMP:20260422T072847
CREATED:20190124T222444Z
LAST-MODIFIED:20190124T224725Z
UID:960-1563235200-1563407999@pcworksemployment.ca
SUMMARY:First Aid/CPR Level C
DESCRIPTION:First Aid/CPR $115 \nJuly 16 & 17\, 2019 \nTo secure your seat\, please make payment prior to the training \nPort Cares 92 Charlotte Street\, Port Colborne\, ON \nCall 905-834-3629 for more information
URL:https://pcworksemployment.ca/event/first-aid-cpr-level-c-copy-copy-copy-copy-copy-2/
END:VEVENT
BEGIN:VEVENT
DTSTART;TZID=America/Toronto:20190718T130000
DTEND;TZID=America/Toronto:20190718T160000
DTSTAMP:20260422T072847
CREATED:20190718T164637Z
LAST-MODIFIED:20191018T183511Z
UID:1453-1563454800-1563465600@pcworksemployment.ca
SUMMARY:Goal Setting and Decision Making
DESCRIPTION:Join us for this fun and interactive workshop on setting the right goals for you and making effective decisions \nCall 905-834-3629 to register 
URL:https://pcworksemployment.ca/event/goal-setting-and-decision-making-copy-2/
END:VEVENT
BEGIN:VEVENT
DTSTART;TZID=America/Toronto:20190725T100000
DTEND;TZID=America/Toronto:20190725T120000
DTSTAMP:20260422T072847
CREATED:20190628T141646Z
LAST-MODIFIED:20190628T141646Z
UID:1429-1564048800-1564056000@pcworksemployment.ca
SUMMARY:Career Quest - Money Management
DESCRIPTION:Join us and learn how to achieve financial fitness and find solutions to your financial issues. \nFacilitated by an Education Coordinator from Credit Counselling Niagara.  \nFree of charge! Register today by calling 905-834-3629 ext. 220 \n  \n \n  \n 
URL:https://pcworksemployment.ca/event/career-quest-money-management/
END:VEVENT
BEGIN:VEVENT
DTSTART;TZID=America/Toronto:20190725T140000
DTEND;TZID=America/Toronto:20190725T160000
DTSTAMP:20260422T072847
CREATED:20190614T163505Z
LAST-MODIFIED:20190614T163545Z
UID:1401-1564063200-1564070400@pcworksemployment.ca
SUMMARY:Job Fair - Bayshore
DESCRIPTION:
URL:https://pcworksemployment.ca/event/job-fair-bayshore-copy/
END:VEVENT
BEGIN:VEVENT
DTSTART;TZID=America/Toronto:20190730T090000
DTEND;TZID=America/Toronto:20190730T120000
DTSTAMP:20260422T072847
CREATED:20190424T141552Z
LAST-MODIFIED:20190614T162328Z
UID:1287-1564477200-1564488000@pcworksemployment.ca
SUMMARY:Winning Interview Skills
DESCRIPTION:Winning Interview Skills \nJoin us for this fun and interactive workshop on Winning Interview Strategies. We will explore interview styles\, how to better prepare for an interview\, help you answer those tough interview questions and tips and tricks to stand out from the competition.  \nTo register\, please call 905-834-3629 etx.220
URL:https://pcworksemployment.ca/event/winning-interview-skills-2-copy-copy-2-copy-copy-copy-3-copy/
CATEGORIES:Featured Event,Winning Interview Skills
END:VEVENT
END:VCALENDAR