BEGIN:VCALENDAR
VERSION:2.0
PRODID:-//PC Works Employment - ECPv6.15.17.1//NONSGML v1.0//EN
CALSCALE:GREGORIAN
METHOD:PUBLISH
X-WR-CALNAME:PC Works Employment
X-ORIGINAL-URL:https://pcworksemployment.ca
X-WR-CALDESC:Events for PC Works Employment
REFRESH-INTERVAL;VALUE=DURATION:PT1H
X-Robots-Tag:noindex
X-PUBLISHED-TTL:PT1H
BEGIN:VTIMEZONE
TZID:America/Toronto
BEGIN:DAYLIGHT
TZOFFSETFROM:-0500
TZOFFSETTO:-0400
TZNAME:EDT
DTSTART:20170312T070000
END:DAYLIGHT
BEGIN:STANDARD
TZOFFSETFROM:-0400
TZOFFSETTO:-0500
TZNAME:EST
DTSTART:20171105T060000
END:STANDARD
BEGIN:DAYLIGHT
TZOFFSETFROM:-0500
TZOFFSETTO:-0400
TZNAME:EDT
DTSTART:20180311T070000
END:DAYLIGHT
BEGIN:STANDARD
TZOFFSETFROM:-0400
TZOFFSETTO:-0500
TZNAME:EST
DTSTART:20181104T060000
END:STANDARD
BEGIN:DAYLIGHT
TZOFFSETFROM:-0500
TZOFFSETTO:-0400
TZNAME:EDT
DTSTART:20190310T070000
END:DAYLIGHT
BEGIN:STANDARD
TZOFFSETFROM:-0400
TZOFFSETTO:-0500
TZNAME:EST
DTSTART:20191103T060000
END:STANDARD
END:VTIMEZONE
BEGIN:VEVENT
DTSTART;TZID=America/Toronto:20181201T183000
DTEND;TZID=America/Toronto:20181201T213000
DTSTAMP:20260422T102120
CREATED:20181102T190053Z
LAST-MODIFIED:20181102T190223Z
UID:775-1543689000-1543699800@pcworksemployment.ca
SUMMARY:Port Colborne's Annual Lighted Santa Claus Parade
DESCRIPTION:Saturday\, December 1\, 2018 beginning at 6:30pm – Port Colborne’s Annual Lighted Santa Claus Parade is always a great way to kick off the holiday season! The Parade begins at Port Colborne High School and finishes at Market Square on Charlotte Street. Children are then welcome to visit with Santa at the Guild Hall.
URL:https://pcworksemployment.ca/event/port-colbornes-annual-lighted-santa-claus-parade/
END:VEVENT
BEGIN:VEVENT
DTSTART;VALUE=DATE:20181204
DTEND;VALUE=DATE:20181206
DTSTAMP:20260422T102120
CREATED:20181015T192128Z
LAST-MODIFIED:20181015T192359Z
UID:704-1543881600-1544054399@pcworksemployment.ca
SUMMARY:First Aid/CPR Level C
DESCRIPTION:First Aid/CPR $115 \nDecember 4 & 5\, 2018 \nTo secure your seat\, please make payment prior to the training \nPort Cares 92 Charlotte Street\, Port Colborne\, ON \nCall 905-834-3629 for more information
URL:https://pcworksemployment.ca/event/first-aid-cpr-level-c-copy-copy/
END:VEVENT
BEGIN:VEVENT
DTSTART;TZID=America/Toronto:20181207T100000
DTEND;TZID=America/Toronto:20181207T133000
DTSTAMP:20260422T102120
CREATED:20181031T204735Z
LAST-MODIFIED:20181031T204735Z
UID:733-1544176800-1544189400@pcworksemployment.ca
SUMMARY:Flu Clinic at EarlyOn Port Colborne
DESCRIPTION:December 7– Family Flu Clinic at the Port Cares EarlyON Centre! \nEven healthy children can become seriously ill with the flu. Younger children have a higher risk of serious illness and even death from flu. This is partly because their immune systems are still developing. Children under five are at especially high risk. (Ministry of Health and Long-Term Care.) In Niagara\, respiratory infections including the flu are one of the highest reasons children seek medical attention. \nA recent study supported by Public Health Ontario found that young children who are fully vaccinated against influenza saw their risk of hospitalization due to influenza infection drop by 60% (Buchan et al\, 2017). Family and friends can protect the children they love by getting their flu vaccine too. In this way\, they are less likely to come down with the flu and pass it on to the children around them. \nGet Your Free Flu Vaccine at Our Clinic! \nBring your family to our Flu Clinic on Friday\, Dec. 7 at the Port Cares EarlyON Centre! \nClinic will run from 10 a.m. – 1:30 p.m. \nThe influenza (flu) vaccine will be offered by injection or nasal spray (which is as effective as injection).
URL:https://pcworksemployment.ca/event/flu-clinic-at-earlyon-port-colborne/
END:VEVENT
BEGIN:VEVENT
DTSTART;TZID=America/Toronto:20181225T080000
DTEND;TZID=America/Toronto:20181225T170000
DTSTAMP:20260422T102120
CREATED:20181031T205118Z
LAST-MODIFIED:20181217T181639Z
UID:738-1545724800-1545757200@pcworksemployment.ca
SUMMARY:Office Closed - Christmas Day
DESCRIPTION:
URL:https://pcworksemployment.ca/event/office-closed-christmas-day/
END:VEVENT
BEGIN:VEVENT
DTSTART;TZID=America/Toronto:20181226T080000
DTEND;TZID=America/Toronto:20181226T170000
DTSTAMP:20260422T102120
CREATED:20181031T205146Z
LAST-MODIFIED:20181217T181704Z
UID:740-1545811200-1545843600@pcworksemployment.ca
SUMMARY:Office Closed - Boxing Day
DESCRIPTION:
URL:https://pcworksemployment.ca/event/office-closed-boxing-day/
END:VEVENT
END:VCALENDAR