BEGIN:VCALENDAR
VERSION:2.0
PRODID:-//PC Works Employment - ECPv6.15.17.1//NONSGML v1.0//EN
CALSCALE:GREGORIAN
METHOD:PUBLISH
X-WR-CALNAME:PC Works Employment
X-ORIGINAL-URL:https://pcworksemployment.ca
X-WR-CALDESC:Events for PC Works Employment
REFRESH-INTERVAL;VALUE=DURATION:PT1H
X-Robots-Tag:noindex
X-PUBLISHED-TTL:PT1H
BEGIN:VTIMEZONE
TZID:America/Toronto
BEGIN:DAYLIGHT
TZOFFSETFROM:-0500
TZOFFSETTO:-0400
TZNAME:EDT
DTSTART:20250309T070000
END:DAYLIGHT
BEGIN:STANDARD
TZOFFSETFROM:-0400
TZOFFSETTO:-0500
TZNAME:EST
DTSTART:20251102T060000
END:STANDARD
BEGIN:DAYLIGHT
TZOFFSETFROM:-0500
TZOFFSETTO:-0400
TZNAME:EDT
DTSTART:20260308T070000
END:DAYLIGHT
BEGIN:STANDARD
TZOFFSETFROM:-0400
TZOFFSETTO:-0500
TZNAME:EST
DTSTART:20261101T060000
END:STANDARD
BEGIN:DAYLIGHT
TZOFFSETFROM:-0500
TZOFFSETTO:-0400
TZNAME:EDT
DTSTART:20270314T070000
END:DAYLIGHT
BEGIN:STANDARD
TZOFFSETFROM:-0400
TZOFFSETTO:-0500
TZNAME:EST
DTSTART:20271107T060000
END:STANDARD
END:VTIMEZONE
BEGIN:VEVENT
DTSTART;TZID=America/Toronto:20260407T130000
DTEND;TZID=America/Toronto:20260407T160000
DTSTAMP:20260420T201857
CREATED:20260318T142723Z
LAST-MODIFIED:20260318T142723Z
UID:7810-1775566800-1775577600@pcworksemployment.ca
SUMMARY:Sherkston Shores Hiring Event at PC Works!
DESCRIPTION:Upcoming Job Fair: \nSherkston Shores is partnering with PC Works for a hiring event in April! Join us and the Sherkston Shores’ hiring team to learn more about seasonal roles in a fun\, guest-focused resort environment. \nDATE: Tuesday April 7th\, 2026 \nTIME: 1 – 4pm\nLOCATION: 92 Charlotte St\, Port Colborne \nFor questions and registration\, please email: pcworks@portcares.ca
URL:https://pcworksemployment.ca/event/sherkston-shores-hiring-event-at-pc-works/
LOCATION:PC Works Employment Services at Port Cares\, 92 Charlotte St\, Port Colborne\, ON\, L3K 3E1\, Canada
CATEGORIES:Job Fair
END:VEVENT
END:VCALENDAR