BEGIN:VCALENDAR
VERSION:2.0
PRODID:-//PC Works Employment - ECPv6.15.17.1//NONSGML v1.0//EN
CALSCALE:GREGORIAN
METHOD:PUBLISH
X-WR-CALNAME:PC Works Employment
X-ORIGINAL-URL:https://pcworksemployment.ca
X-WR-CALDESC:Events for PC Works Employment
REFRESH-INTERVAL;VALUE=DURATION:PT1H
X-Robots-Tag:noindex
X-PUBLISHED-TTL:PT1H
BEGIN:VTIMEZONE
TZID:America/Toronto
BEGIN:DAYLIGHT
TZOFFSETFROM:-0500
TZOFFSETTO:-0400
TZNAME:EDT
DTSTART:20250309T070000
END:DAYLIGHT
BEGIN:STANDARD
TZOFFSETFROM:-0400
TZOFFSETTO:-0500
TZNAME:EST
DTSTART:20251102T060000
END:STANDARD
BEGIN:DAYLIGHT
TZOFFSETFROM:-0500
TZOFFSETTO:-0400
TZNAME:EDT
DTSTART:20260308T070000
END:DAYLIGHT
BEGIN:STANDARD
TZOFFSETFROM:-0400
TZOFFSETTO:-0500
TZNAME:EST
DTSTART:20261101T060000
END:STANDARD
BEGIN:DAYLIGHT
TZOFFSETFROM:-0500
TZOFFSETTO:-0400
TZNAME:EDT
DTSTART:20270314T070000
END:DAYLIGHT
BEGIN:STANDARD
TZOFFSETFROM:-0400
TZOFFSETTO:-0500
TZNAME:EST
DTSTART:20271107T060000
END:STANDARD
END:VTIMEZONE
BEGIN:VEVENT
DTSTART;TZID=America/Toronto:20260414T130000
DTEND;TZID=America/Toronto:20260414T143000
DTSTAMP:20260423T092940
CREATED:20260325T161121Z
LAST-MODIFIED:20260325T161121Z
UID:7819-1776171600-1776177000@pcworksemployment.ca
SUMMARY:Mock Interview Lab
DESCRIPTION:Mock Interview Lab is an interactive workshop designed to help job seekers build confidence and improve their interview skills through practice. Participants will take part in mock interview exercises\, receive constructive feedback\, and learn effective techniques for answering common interview questions. This hands-on session provides a supportive environment to strengthen communication skills and prepare for real job interviews.  \nFor questions\, please contact pcworks@portcares.ca or call 905-834-3629\, extension 276.
URL:https://pcworksemployment.ca/event/mock-interview-lab/
END:VEVENT
END:VCALENDAR