BEGIN:VCALENDAR
VERSION:2.0
PRODID:-//PC Works Employment - ECPv6.15.17.1//NONSGML v1.0//EN
CALSCALE:GREGORIAN
METHOD:PUBLISH
X-ORIGINAL-URL:https://pcworksemployment.ca
X-WR-CALDESC:Events for PC Works Employment
REFRESH-INTERVAL;VALUE=DURATION:PT1H
X-Robots-Tag:noindex
X-PUBLISHED-TTL:PT1H
BEGIN:VTIMEZONE
TZID:America/Toronto
BEGIN:DAYLIGHT
TZOFFSETFROM:-0500
TZOFFSETTO:-0400
TZNAME:EDT
DTSTART:20240310T070000
END:DAYLIGHT
BEGIN:STANDARD
TZOFFSETFROM:-0400
TZOFFSETTO:-0500
TZNAME:EST
DTSTART:20241103T060000
END:STANDARD
BEGIN:DAYLIGHT
TZOFFSETFROM:-0500
TZOFFSETTO:-0400
TZNAME:EDT
DTSTART:20250309T070000
END:DAYLIGHT
BEGIN:STANDARD
TZOFFSETFROM:-0400
TZOFFSETTO:-0500
TZNAME:EST
DTSTART:20251102T060000
END:STANDARD
BEGIN:DAYLIGHT
TZOFFSETFROM:-0500
TZOFFSETTO:-0400
TZNAME:EDT
DTSTART:20260308T070000
END:DAYLIGHT
BEGIN:STANDARD
TZOFFSETFROM:-0400
TZOFFSETTO:-0500
TZNAME:EST
DTSTART:20261101T060000
END:STANDARD
END:VTIMEZONE
BEGIN:VEVENT
DTSTART;TZID=America/Toronto:20251105T093000
DTEND;TZID=America/Toronto:20251105T153000
DTSTAMP:20260424T195252
CREATED:20251027T193658Z
LAST-MODIFIED:20251027T193658Z
UID:7600-1762335000-1762356600@pcworksemployment.ca
SUMMARY:CannSell – Supported Certification Workshop
DESCRIPTION:The CannSell Standard Certification is the only training program approved for legally authorized cannabis retailers in Ontario. Ontario law requires that all employees of cannabis retail stores\, store managers\, and cannabis retail license holders must complete the CannSell certification before their first day of work. CannSell was developed in partnership with MADD Canada to support safer consumption. \nCannSell is a mandatory training for those who want to work in a retail Cannabis environment in the province of Ontario.  This course is designed to assist those individuals who require either technology or learning support to achieve this certification. Please note\, you must be 19 years old to get certified. \nIf you are interested in CannSell\, and feel you could achieve this self-guided course independently at home\, please speak to your Employment Coach today\, otherwise\, register your interest in this program here! \nPlease note – your spot is not guaranteed as space is limited\, you will receive a confirmation of your registration via. a phone call or email from a PC Works team member! \nIf you have questions\, please call 905 834 3629 x 293.
URL:https://pcworksemployment.ca/event/cannsell-supported-certification-workshop-6/
LOCATION:Digital Classroom in Port Cares\, 92 Charlotte Street\, Port Colborne\, Ontario\, L3K3E1\, Canada
END:VEVENT
BEGIN:VEVENT
DTSTART;TZID=America/Toronto:20251105T150000
DTEND;TZID=America/Toronto:20251105T193000
DTSTAMP:20260424T195252
CREATED:20250924T152257Z
LAST-MODIFIED:20250924T152257Z
UID:7530-1762354800-1762371000@pcworksemployment.ca
SUMMARY:Level Up - Skilled Trades Career Fair Open House
DESCRIPTION:Level Up! Skilled Trades Career Fairs are back for Fall 2025!\nDiscover your future career in the skilled trades at a Level Up!  \nOpen House events are free-of-charge and run from 3:00 p.m. to 7:30 p.m.  The closest event to the Niagara Region takes place in Hamilton on November 5\, 2025. \nLearn more about the fair\, and see all locations here: https://levelupontario.ca/open-house/  \nIf you have any questions\, please reach out to your Employment Advisor today or call 905 834 3629 x 259.  \n \n  \n  \nPlease note\, this is a community resource\, and is not an event that is offered by or connected to Port Cares or PC Works Employment Services.
URL:https://pcworksemployment.ca/event/level-up-skilled-trades-career-fair-open-house/
LOCATION:Ancaster Fairgrounds\, Hamilton\, 630 Trinity Rd S\, Jerseyville\, Canada
END:VEVENT
END:VCALENDAR