BEGIN:VCALENDAR
VERSION:2.0
PRODID:-//PC Works Employment - ECPv6.15.17.1//NONSGML v1.0//EN
CALSCALE:GREGORIAN
METHOD:PUBLISH
X-WR-CALNAME:PC Works Employment
X-ORIGINAL-URL:https://pcworksemployment.ca
X-WR-CALDESC:Events for PC Works Employment
REFRESH-INTERVAL;VALUE=DURATION:PT1H
X-Robots-Tag:noindex
X-PUBLISHED-TTL:PT1H
BEGIN:VTIMEZONE
TZID:America/Toronto
BEGIN:DAYLIGHT
TZOFFSETFROM:-0500
TZOFFSETTO:-0400
TZNAME:EDT
DTSTART:20240310T070000
END:DAYLIGHT
BEGIN:STANDARD
TZOFFSETFROM:-0400
TZOFFSETTO:-0500
TZNAME:EST
DTSTART:20241103T060000
END:STANDARD
BEGIN:DAYLIGHT
TZOFFSETFROM:-0500
TZOFFSETTO:-0400
TZNAME:EDT
DTSTART:20250309T070000
END:DAYLIGHT
BEGIN:STANDARD
TZOFFSETFROM:-0400
TZOFFSETTO:-0500
TZNAME:EST
DTSTART:20251102T060000
END:STANDARD
BEGIN:DAYLIGHT
TZOFFSETFROM:-0500
TZOFFSETTO:-0400
TZNAME:EDT
DTSTART:20260308T070000
END:DAYLIGHT
BEGIN:STANDARD
TZOFFSETFROM:-0400
TZOFFSETTO:-0500
TZNAME:EST
DTSTART:20261101T060000
END:STANDARD
END:VTIMEZONE
BEGIN:VEVENT
DTSTART;TZID=America/Toronto:20250616T093000
DTEND;TZID=America/Toronto:20250627T123000
DTSTAMP:20260425T220945
CREATED:20250520T190043Z
LAST-MODIFIED:20250520T191510Z
UID:7289-1750066200-1751027400@pcworksemployment.ca
SUMMARY:The Power of Possible - Work Readiness Workshop
DESCRIPTION:The Power of Possible is a transformative work-readiness program that is perfect for people who are between roles\, looking to sharpen their skills\, and would appreciate assistance with all things pre-employment. \nThis is a 30-Hour certification course that’s completely free. It runs Monday to Friday\, from June 16 to June 27\, 2025 \nFor questions or more information about this workshop please reach out to gillian.anderson@portcares.ca or call 905 834 3629 x 259.
URL:https://pcworksemployment.ca/event/the-power-of-possible-work-readiness-workshop/
LOCATION:PC Works Employment Services at Port Cares\, 92 Charlotte St\, Port Colborne\, ON\, L3K 3E1\, Canada
END:VEVENT
END:VCALENDAR