BEGIN:VCALENDAR
VERSION:2.0
PRODID:-//PC Works Employment - ECPv6.15.17.1//NONSGML v1.0//EN
CALSCALE:GREGORIAN
METHOD:PUBLISH
X-WR-CALNAME:PC Works Employment
X-ORIGINAL-URL:https://pcworksemployment.ca
X-WR-CALDESC:Events for PC Works Employment
REFRESH-INTERVAL;VALUE=DURATION:PT1H
X-Robots-Tag:noindex
X-PUBLISHED-TTL:PT1H
BEGIN:VTIMEZONE
TZID:America/Toronto
BEGIN:DAYLIGHT
TZOFFSETFROM:-0500
TZOFFSETTO:-0400
TZNAME:EDT
DTSTART:20210314T070000
END:DAYLIGHT
BEGIN:STANDARD
TZOFFSETFROM:-0400
TZOFFSETTO:-0500
TZNAME:EST
DTSTART:20211107T060000
END:STANDARD
BEGIN:DAYLIGHT
TZOFFSETFROM:-0500
TZOFFSETTO:-0400
TZNAME:EDT
DTSTART:20220313T070000
END:DAYLIGHT
BEGIN:STANDARD
TZOFFSETFROM:-0400
TZOFFSETTO:-0500
TZNAME:EST
DTSTART:20221106T060000
END:STANDARD
BEGIN:DAYLIGHT
TZOFFSETFROM:-0500
TZOFFSETTO:-0400
TZNAME:EDT
DTSTART:20230312T070000
END:DAYLIGHT
BEGIN:STANDARD
TZOFFSETFROM:-0400
TZOFFSETTO:-0500
TZNAME:EST
DTSTART:20231105T060000
END:STANDARD
END:VTIMEZONE
BEGIN:VEVENT
DTSTART;TZID=America/Toronto:20220921T100000
DTEND;TZID=America/Toronto:20220921T160000
DTSTAMP:20260424T013311
CREATED:20220912T141104Z
LAST-MODIFIED:20220912T141148Z
UID:5332-1663754400-1663776000@pcworksemployment.ca
SUMMARY:Digital Skills for your Job Search
DESCRIPTION:This will provide you with the tools needed to prepare your resume\, learn job search fundamentals\, curate your online presence\, and practice for virtual interviews and job fairs. Register today by calling 905-834-3629 ext. 293 or online at https://form.jotform.com/222434287968266
URL:https://pcworksemployment.ca/event/digital-skills-for-your-job-search/
LOCATION:Ontario
END:VEVENT
END:VCALENDAR