BEGIN:VCALENDAR
VERSION:2.0
PRODID:-//PC Works Employment - ECPv6.15.17.1//NONSGML v1.0//EN
CALSCALE:GREGORIAN
METHOD:PUBLISH
X-WR-CALNAME:PC Works Employment
X-ORIGINAL-URL:https://pcworksemployment.ca
X-WR-CALDESC:Events for PC Works Employment
REFRESH-INTERVAL;VALUE=DURATION:PT1H
X-Robots-Tag:noindex
X-PUBLISHED-TTL:PT1H
BEGIN:VTIMEZONE
TZID:America/Toronto
BEGIN:DAYLIGHT
TZOFFSETFROM:-0500
TZOFFSETTO:-0400
TZNAME:EDT
DTSTART:20210314T070000
END:DAYLIGHT
BEGIN:STANDARD
TZOFFSETFROM:-0400
TZOFFSETTO:-0500
TZNAME:EST
DTSTART:20211107T060000
END:STANDARD
BEGIN:DAYLIGHT
TZOFFSETFROM:-0500
TZOFFSETTO:-0400
TZNAME:EDT
DTSTART:20220313T070000
END:DAYLIGHT
BEGIN:STANDARD
TZOFFSETFROM:-0400
TZOFFSETTO:-0500
TZNAME:EST
DTSTART:20221106T060000
END:STANDARD
BEGIN:DAYLIGHT
TZOFFSETFROM:-0500
TZOFFSETTO:-0400
TZNAME:EDT
DTSTART:20230312T070000
END:DAYLIGHT
BEGIN:STANDARD
TZOFFSETFROM:-0400
TZOFFSETTO:-0500
TZNAME:EST
DTSTART:20231105T060000
END:STANDARD
END:VTIMEZONE
BEGIN:VEVENT
DTSTART;TZID=America/Toronto:20220125T140000
DTEND;TZID=America/Toronto:20220125T150000
DTSTAMP:20260423T040902
CREATED:20211223T190554Z
LAST-MODIFIED:20211223T190645Z
UID:4851-1643119200-1643122800@pcworksemployment.ca
SUMMARY:How to Effectively Job Search Pt. 2 Workshop
DESCRIPTION:It’s been a difficult year\, to say the least. Let’s discuss staying resilient\, being prepared\, and getting the job in 2021. We will discuss all of the tips\, tricks\, and tools right from an Employment Counsellor. This is a 2 part workshop that will be held on September 27th and 28th.  \n*This workshop will be held online via ZOOM. To register\, please complete the form to the right or give us a call at (905) 834-3629 ext. 227. 
URL:https://pcworksemployment.ca/event/job-searching-during-a-pandemic-workshop-online-copy-copy-copy-2-copy-copy-copy-copy-copy/
END:VEVENT
END:VCALENDAR