BEGIN:VCALENDAR
VERSION:2.0
PRODID:-//PC Works Employment - ECPv6.15.17.1//NONSGML v1.0//EN
CALSCALE:GREGORIAN
METHOD:PUBLISH
X-WR-CALNAME:PC Works Employment
X-ORIGINAL-URL:https://pcworksemployment.ca
X-WR-CALDESC:Events for PC Works Employment
REFRESH-INTERVAL;VALUE=DURATION:PT1H
X-Robots-Tag:noindex
X-PUBLISHED-TTL:PT1H
BEGIN:VTIMEZONE
TZID:America/Toronto
BEGIN:DAYLIGHT
TZOFFSETFROM:-0500
TZOFFSETTO:-0400
TZNAME:EDT
DTSTART:20200308T070000
END:DAYLIGHT
BEGIN:STANDARD
TZOFFSETFROM:-0400
TZOFFSETTO:-0500
TZNAME:EST
DTSTART:20201101T060000
END:STANDARD
BEGIN:DAYLIGHT
TZOFFSETFROM:-0500
TZOFFSETTO:-0400
TZNAME:EDT
DTSTART:20210314T070000
END:DAYLIGHT
BEGIN:STANDARD
TZOFFSETFROM:-0400
TZOFFSETTO:-0500
TZNAME:EST
DTSTART:20211107T060000
END:STANDARD
BEGIN:DAYLIGHT
TZOFFSETFROM:-0500
TZOFFSETTO:-0400
TZNAME:EDT
DTSTART:20220313T070000
END:DAYLIGHT
BEGIN:STANDARD
TZOFFSETFROM:-0400
TZOFFSETTO:-0500
TZNAME:EST
DTSTART:20221106T060000
END:STANDARD
END:VTIMEZONE
BEGIN:VEVENT
DTSTART;TZID=America/Toronto:20211022T140000
DTEND;TZID=America/Toronto:20211022T150000
DTSTAMP:20260423T001131
CREATED:20210928T165608Z
LAST-MODIFIED:20210930T145620Z
UID:4321-1634911200-1634914800@pcworksemployment.ca
SUMMARY:Discussion Series: Ask an Employment Counsellor
DESCRIPTION:Join us for an informal panel discussion\, Ask an Employment Counsellor! Each week the Employment Counsellors at PCWorks will discuss various topics and tips to help job seekers\, find\, get\, and keep the job! We will be joined by special guests including our job developers\, Literacy and Basic Skills instructors\, and more!  \n*This workshop will be held online via ZOOM. To register\, please complete the form to the right or give us a call at (905) 834-3629 ext. 227. 
URL:https://pcworksemployment.ca/event/discussion-series-ask-an-employment-counsellor-copy-copy-copy-copy-copy-copy-2-copy-copy-copy-copy/
END:VEVENT
END:VCALENDAR