BEGIN:VCALENDAR
VERSION:2.0
PRODID:-//PC Works Employment - ECPv6.15.17.1//NONSGML v1.0//EN
CALSCALE:GREGORIAN
METHOD:PUBLISH
X-WR-CALNAME:PC Works Employment
X-ORIGINAL-URL:https://pcworksemployment.ca
X-WR-CALDESC:Events for PC Works Employment
REFRESH-INTERVAL;VALUE=DURATION:PT1H
X-Robots-Tag:noindex
X-PUBLISHED-TTL:PT1H
BEGIN:VTIMEZONE
TZID:America/Toronto
BEGIN:DAYLIGHT
TZOFFSETFROM:-0500
TZOFFSETTO:-0400
TZNAME:EDT
DTSTART:20200308T070000
END:DAYLIGHT
BEGIN:STANDARD
TZOFFSETFROM:-0400
TZOFFSETTO:-0500
TZNAME:EST
DTSTART:20201101T060000
END:STANDARD
BEGIN:DAYLIGHT
TZOFFSETFROM:-0500
TZOFFSETTO:-0400
TZNAME:EDT
DTSTART:20210314T070000
END:DAYLIGHT
BEGIN:STANDARD
TZOFFSETFROM:-0400
TZOFFSETTO:-0500
TZNAME:EST
DTSTART:20211107T060000
END:STANDARD
BEGIN:DAYLIGHT
TZOFFSETFROM:-0500
TZOFFSETTO:-0400
TZNAME:EDT
DTSTART:20220313T070000
END:DAYLIGHT
BEGIN:STANDARD
TZOFFSETFROM:-0400
TZOFFSETTO:-0500
TZNAME:EST
DTSTART:20221106T060000
END:STANDARD
END:VTIMEZONE
BEGIN:VEVENT
DTSTART;TZID=America/Toronto:20210830T100000
DTEND;TZID=America/Toronto:20210830T110000
DTSTAMP:20260423T001116
CREATED:20210719T192005Z
LAST-MODIFIED:20210719T192610Z
UID:3852-1630317600-1630321200@pcworksemployment.ca
SUMMARY:Stress Management Workshop
DESCRIPTION:Join us for this informative workshop and learn how to balance all the different dimensions of life! Learning how to eliminate unnecessary stress will give you more energy to enjoy life and succeed in the workplace! \n*This workshop will be held online via ZOOM and in-person at Port Cares! Limited availability for in-person training. To register\, please complete the form to the right or give us a call at (905) 834-3629 ext. 227. 
URL:https://pcworksemployment.ca/event/stress-management-copy-copy/
END:VEVENT
END:VCALENDAR