BEGIN:VCALENDAR
VERSION:2.0
PRODID:-//PC Works Employment - ECPv6.15.17.1//NONSGML v1.0//EN
CALSCALE:GREGORIAN
METHOD:PUBLISH
X-ORIGINAL-URL:https://pcworksemployment.ca
X-WR-CALDESC:Events for PC Works Employment
REFRESH-INTERVAL;VALUE=DURATION:PT1H
X-Robots-Tag:noindex
X-PUBLISHED-TTL:PT1H
BEGIN:VTIMEZONE
TZID:America/Toronto
BEGIN:DAYLIGHT
TZOFFSETFROM:-0500
TZOFFSETTO:-0400
TZNAME:EDT
DTSTART:20200308T070000
END:DAYLIGHT
BEGIN:STANDARD
TZOFFSETFROM:-0400
TZOFFSETTO:-0500
TZNAME:EST
DTSTART:20201101T060000
END:STANDARD
BEGIN:DAYLIGHT
TZOFFSETFROM:-0500
TZOFFSETTO:-0400
TZNAME:EDT
DTSTART:20210314T070000
END:DAYLIGHT
BEGIN:STANDARD
TZOFFSETFROM:-0400
TZOFFSETTO:-0500
TZNAME:EST
DTSTART:20211107T060000
END:STANDARD
BEGIN:DAYLIGHT
TZOFFSETFROM:-0500
TZOFFSETTO:-0400
TZNAME:EDT
DTSTART:20220313T070000
END:DAYLIGHT
BEGIN:STANDARD
TZOFFSETFROM:-0400
TZOFFSETTO:-0500
TZNAME:EST
DTSTART:20221106T060000
END:STANDARD
END:VTIMEZONE
BEGIN:VEVENT
DTSTART;TZID=America/Toronto:20210126T140000
DTEND;TZID=America/Toronto:20210126T150000
DTSTAMP:20260424T030608
CREATED:20201218T162234Z
LAST-MODIFIED:20201218T162510Z
UID:2499-1611669600-1611673200@pcworksemployment.ca
SUMMARY:Academic Classroom Information Session (online)
DESCRIPTION:Interested in upgrading your reading or writing skills or want to inquire about completing your high school diploma? Join us for an information session outlining what we offer here in our Academic Classroom!  \n*Pre-registration is required in order to receive the Zoom link and meeting ID. 
URL:https://pcworksemployment.ca/event/digital-classroom-information-session-copy/
LOCATION:PC Works Employment Services at Port Cares\, 92 Charlotte St\, Port Colborne\, ON\, L3K 3E1\, Canada
END:VEVENT
END:VCALENDAR