BEGIN:VCALENDAR
VERSION:2.0
PRODID:-//PC Works Employment - ECPv6.15.17.1//NONSGML v1.0//EN
CALSCALE:GREGORIAN
METHOD:PUBLISH
X-WR-CALNAME:PC Works Employment
X-ORIGINAL-URL:https://pcworksemployment.ca
X-WR-CALDESC:Events for PC Works Employment
REFRESH-INTERVAL;VALUE=DURATION:PT1H
X-Robots-Tag:noindex
X-PUBLISHED-TTL:PT1H
BEGIN:VTIMEZONE
TZID:America/Toronto
BEGIN:DAYLIGHT
TZOFFSETFROM:-0500
TZOFFSETTO:-0400
TZNAME:EDT
DTSTART:20200308T070000
END:DAYLIGHT
BEGIN:STANDARD
TZOFFSETFROM:-0400
TZOFFSETTO:-0500
TZNAME:EST
DTSTART:20201101T060000
END:STANDARD
BEGIN:DAYLIGHT
TZOFFSETFROM:-0500
TZOFFSETTO:-0400
TZNAME:EDT
DTSTART:20210314T070000
END:DAYLIGHT
BEGIN:STANDARD
TZOFFSETFROM:-0400
TZOFFSETTO:-0500
TZNAME:EST
DTSTART:20211107T060000
END:STANDARD
BEGIN:DAYLIGHT
TZOFFSETFROM:-0500
TZOFFSETTO:-0400
TZNAME:EDT
DTSTART:20220313T070000
END:DAYLIGHT
BEGIN:STANDARD
TZOFFSETFROM:-0400
TZOFFSETTO:-0500
TZNAME:EST
DTSTART:20221106T060000
END:STANDARD
END:VTIMEZONE
BEGIN:VEVENT
DTSTART;TZID=America/Toronto:20210113T100000
DTEND;TZID=America/Toronto:20210113T120000
DTSTAMP:20260423T140843
CREATED:20201218T162748Z
LAST-MODIFIED:20201218T162748Z
UID:2504-1610532000-1610539200@pcworksemployment.ca
SUMMARY:Winning Interview Skills (online)
DESCRIPTION:Now is the time to get on top of your interview skills! Are you familiar and comfortable with interviews? Have you ever had a virtual or phone interview? Not sure where to start? Join us for this interactive online workshop to help give tips and advice on how to brush up on your interview skills!  \n*Pre-registration is required in order to receive the Zoom link / meeting ID. \n 
URL:https://pcworksemployment.ca/event/winning-interview-skills-online/
LOCATION:PC Works Employment Services at Port Cares\, 92 Charlotte St\, Port Colborne\, ON\, L3K 3E1\, Canada
END:VEVENT
END:VCALENDAR