BEGIN:VCALENDAR
VERSION:2.0
PRODID:-//PC Works Employment - ECPv6.15.17.1//NONSGML v1.0//EN
CALSCALE:GREGORIAN
METHOD:PUBLISH
X-WR-CALNAME:PC Works Employment
X-ORIGINAL-URL:https://pcworksemployment.ca
X-WR-CALDESC:Events for PC Works Employment
REFRESH-INTERVAL;VALUE=DURATION:PT1H
X-Robots-Tag:noindex
X-PUBLISHED-TTL:PT1H
BEGIN:VTIMEZONE
TZID:America/Toronto
BEGIN:DAYLIGHT
TZOFFSETFROM:-0500
TZOFFSETTO:-0400
TZNAME:EDT
DTSTART:20190310T070000
END:DAYLIGHT
BEGIN:STANDARD
TZOFFSETFROM:-0400
TZOFFSETTO:-0500
TZNAME:EST
DTSTART:20191103T060000
END:STANDARD
BEGIN:DAYLIGHT
TZOFFSETFROM:-0500
TZOFFSETTO:-0400
TZNAME:EDT
DTSTART:20200308T070000
END:DAYLIGHT
BEGIN:STANDARD
TZOFFSETFROM:-0400
TZOFFSETTO:-0500
TZNAME:EST
DTSTART:20201101T060000
END:STANDARD
BEGIN:DAYLIGHT
TZOFFSETFROM:-0500
TZOFFSETTO:-0400
TZNAME:EDT
DTSTART:20210314T070000
END:DAYLIGHT
BEGIN:STANDARD
TZOFFSETFROM:-0400
TZOFFSETTO:-0500
TZNAME:EST
DTSTART:20211107T060000
END:STANDARD
END:VTIMEZONE
BEGIN:VEVENT
DTSTART;TZID=America/Toronto:20201110T130000
DTEND;TZID=America/Toronto:20201110T140000
DTSTAMP:20260424T040958
CREATED:20201028T162054Z
LAST-MODIFIED:20201028T162054Z
UID:2332-1605013200-1605016800@pcworksemployment.ca
SUMMARY:Are You Coping with a Job Loss?
DESCRIPTION:Are You Coping with a Job Loss? Join us for an informative discussion on strategies to move forward. This workshop is offered online using Zoom. To register\, please visit www.pcworksemployment.ca and select calendar. Click on the workshop description\, the registration option is on the right. We look forward to seeing you
URL:https://pcworksemployment.ca/event/are-you-coping-with-a-job-loss/
LOCATION:Zoom\, 330 Vansickle Rd\, St. Catherines\, Ontario\, L2S 0B4\, Canada
END:VEVENT
END:VCALENDAR