BEGIN:VCALENDAR
VERSION:2.0
PRODID:-//PC Works Employment - ECPv6.15.17.1//NONSGML v1.0//EN
CALSCALE:GREGORIAN
METHOD:PUBLISH
X-WR-CALNAME:PC Works Employment
X-ORIGINAL-URL:https://pcworksemployment.ca
X-WR-CALDESC:Events for PC Works Employment
REFRESH-INTERVAL;VALUE=DURATION:PT1H
X-Robots-Tag:noindex
X-PUBLISHED-TTL:PT1H
BEGIN:VTIMEZONE
TZID:America/Toronto
BEGIN:DAYLIGHT
TZOFFSETFROM:-0500
TZOFFSETTO:-0400
TZNAME:EDT
DTSTART:20190310T070000
END:DAYLIGHT
BEGIN:STANDARD
TZOFFSETFROM:-0400
TZOFFSETTO:-0500
TZNAME:EST
DTSTART:20191103T060000
END:STANDARD
BEGIN:DAYLIGHT
TZOFFSETFROM:-0500
TZOFFSETTO:-0400
TZNAME:EDT
DTSTART:20200308T070000
END:DAYLIGHT
BEGIN:STANDARD
TZOFFSETFROM:-0400
TZOFFSETTO:-0500
TZNAME:EST
DTSTART:20201101T060000
END:STANDARD
BEGIN:DAYLIGHT
TZOFFSETFROM:-0500
TZOFFSETTO:-0400
TZNAME:EDT
DTSTART:20210314T070000
END:DAYLIGHT
BEGIN:STANDARD
TZOFFSETFROM:-0400
TZOFFSETTO:-0500
TZNAME:EST
DTSTART:20211107T060000
END:STANDARD
END:VTIMEZONE
BEGIN:VEVENT
DTSTART;VALUE=DATE:20201001
DTEND;VALUE=DATE:20201101
DTSTAMP:20260422T105503
CREATED:20200925T182610Z
LAST-MODIFIED:20200925T182700Z
UID:2208-1601510400-1604188799@pcworksemployment.ca
SUMMARY:SMART Serve (Available for Assisted Services Clients)
DESCRIPTION:We currently have SMART Serve courses available for assisted clients. \nPlease let your Employment Counsellor know that you are interested in this course or contact Sabrina at 905-834-3629 ext. 227 / sabrina.marcantonio@portcares.ca for more details. 
URL:https://pcworksemployment.ca/event/smart-serve-available-for-assisted-clients/
LOCATION:PC Works Employment Services at Port Cares\, 92 Charlotte St\, Port Colborne\, ON\, L3K 3E1\, Canada
END:VEVENT
BEGIN:VEVENT
DTSTART;VALUE=DATE:20201001
DTEND;VALUE=DATE:20201101
DTSTAMP:20260422T105503
CREATED:20200925T182909Z
LAST-MODIFIED:20200925T182909Z
UID:2211-1601510400-1604188799@pcworksemployment.ca
SUMMARY:Additional Workshops
DESCRIPTION:We offer additional workshops that can be completed independently covering the topics of: Stress Management\, Career Cruising\, Goal Setting\, and many more!  \n  \nContact Sabrina at 905-834-3629 ext. 227 /sabrina.marcantonio@portcares.ca for more details! 
URL:https://pcworksemployment.ca/event/additional-workshops/
END:VEVENT
BEGIN:VEVENT
DTSTART;TZID=America/Toronto:20201028T090000
DTEND;TZID=America/Toronto:20201028T160000
DTSTAMP:20260422T105503
CREATED:20200925T180815Z
LAST-MODIFIED:20200925T180815Z
UID:2200-1603875600-1603900800@pcworksemployment.ca
SUMMARY:On Site: First Aid/CPR
DESCRIPTION:Obtain your First Aid/CPR Certification with this 2 day course. This course runs on October 28th and 29th from 9 AM – 4 PM here at Port Cares in our Group Room. This course costs $129.95 and must be paid in full upon pre-registration at Port Care Front Desk. Payments can be made in Cash\, Cheque\, or Credit/Debit card. Spots are limited due to Covid-19 and physical distancing measures. Contact Sabrina at 905-834-3629 ext. 227 / sabrina.marcantonio@portcares.ca for more information! 
URL:https://pcworksemployment.ca/event/on-site-first-aid-cpr/
LOCATION:PC Works Employment Services at Port Cares\, 92 Charlotte St\, Port Colborne\, ON\, L3K 3E1\, Canada
END:VEVENT
END:VCALENDAR