BEGIN:VCALENDAR
VERSION:2.0
PRODID:-//PC Works Employment - ECPv6.15.17.1//NONSGML v1.0//EN
CALSCALE:GREGORIAN
METHOD:PUBLISH
X-ORIGINAL-URL:https://pcworksemployment.ca
X-WR-CALDESC:Events for PC Works Employment
REFRESH-INTERVAL;VALUE=DURATION:PT1H
X-Robots-Tag:noindex
X-PUBLISHED-TTL:PT1H
BEGIN:VTIMEZONE
TZID:America/Toronto
BEGIN:DAYLIGHT
TZOFFSETFROM:-0500
TZOFFSETTO:-0400
TZNAME:EDT
DTSTART:20170312T070000
END:DAYLIGHT
BEGIN:STANDARD
TZOFFSETFROM:-0400
TZOFFSETTO:-0500
TZNAME:EST
DTSTART:20171105T060000
END:STANDARD
BEGIN:DAYLIGHT
TZOFFSETFROM:-0500
TZOFFSETTO:-0400
TZNAME:EDT
DTSTART:20180311T070000
END:DAYLIGHT
BEGIN:STANDARD
TZOFFSETFROM:-0400
TZOFFSETTO:-0500
TZNAME:EST
DTSTART:20181104T060000
END:STANDARD
BEGIN:DAYLIGHT
TZOFFSETFROM:-0500
TZOFFSETTO:-0400
TZNAME:EDT
DTSTART:20190310T070000
END:DAYLIGHT
BEGIN:STANDARD
TZOFFSETFROM:-0400
TZOFFSETTO:-0500
TZNAME:EST
DTSTART:20191103T060000
END:STANDARD
END:VTIMEZONE
BEGIN:VEVENT
DTSTART;TZID=America/Toronto:20180829T130000
DTEND;TZID=America/Toronto:20180829T150000
DTSTAMP:20260419T095555
CREATED:20180622T183532Z
LAST-MODIFIED:20180816T131148Z
UID:478-1535547600-1535554800@pcworksemployment.ca
SUMMARY:Career Quest - Pardons in Canada
DESCRIPTION:Career Quest – How to obtain a Pardon in Canada \nWednesday August 29th\, 2018 ~ 1-3 pm \nIs having a criminal record affect your job search? Join us for this is informative session to help guide you through the process of applying for a pardon in Canada \nPlease call 905-834-3629 to pre-register\, no fee for this workshop \n \n 
URL:https://pcworksemployment.ca/event/career-quest-social-media-copy/
END:VEVENT
END:VCALENDAR